BEGIN:VCALENDAR
VERSION:2.0
PRODID:-//www.agcnebuilders.com//NONSGML kigkonsult.se iCalcreator 2.30.10/
 /
CALSCALE:GREGORIAN
METHOD:PUBLISH
UID:355d1ae7-a3cd-4595-8b7a-8fd39ab39b9d
X-WR-CALDESC:<i>Classes are held Monday through Thursday\, 9:00am - 5:00pm<
 /i>\n\n<b>AGC Edge Building Information Modeling (BIM) Education Program</
 b> is designed to educate construction professionals at all experience lev
 els in BIM concepts and processes. The highly interactive virtual program 
 provides instruction via Zoom and training to prepare construction industr
 y professionals at all levels to take advantage of the benefits of BIM.\n
 \n<i>Select Nebraska Building Chapter AGC as your referrer during registra
 tion.</i>
X-WR-RELCALID:998eaf78bbd389bb6967872d4b74a1f8
X-WR-TIMEZONE:America/Chicago
BEGIN:VTIMEZONE
TZID:America/Chicago
BEGIN:STANDARD
TZNAME:CST
DTSTART:20261101T020000
TZOFFSETFROM:-0500
TZOFFSETTO:-0600
RDATE:20271107T020000
END:STANDARD
BEGIN:DAYLIGHT
TZNAME:CDT
DTSTART:20260308T020000
TZOFFSETFROM:-0600
TZOFFSETTO:-0500
RDATE:20270314T020000
RDATE:20280312T020000
END:DAYLIGHT
END:VTIMEZONE
BEGIN:VEVENT
UID:1c522b75-9085-490a-a750-c6f9d2da8f77
DTSTAMP:20260423T140751Z
DESCRIPTION:<i>Classes are held Monday through Thursday\, 9:00am - 5:00pm</
 i>\n\n<b>AGC Edge Building Information Modeling (BIM) Education Program</b
 > is designed to educate construction professionals at all experience leve
 ls in BIM concepts and processes. The highly interactive virtual program p
 rovides instruction via Zoom and training to prepare construction industry
  professionals at all levels to take advantage of the benefits of BIM.\n\n
 <i>Select Nebraska Building Chapter AGC as your referrer during registrati
 on.</i>
DTSTART;TZID=America/Chicago:20261214T050000
DTEND;TZID=America/Chicago:20261214T050001
LOCATION:https://agc-community.agc.org/s/lt-event?id=a1mRg000008pOtJ&comSit
 eId=a2A3t00000MHkjCEAT
SUMMARY:AGC Edge: Building Information Modeling Education Program
END:VEVENT
END:VCALENDAR
