BEGIN:VCALENDAR
VERSION:2.0
PRODID:-//www.agcnebuilders.com//NONSGML kigkonsult.se iCalcreator 2.30.10/
 /
CALSCALE:GREGORIAN
METHOD:PUBLISH
UID:d8159607-a81c-4b66-abc4-2dbc26ea7654
X-WR-CALDESC:<i>Classes are held Monday through Friday\, 9:30am-5:30pm</i>
 \n\n<b>AGC Edge Project Manager Development Program (PMDP)</b> is highly i
 nteractive and offers construction-specific training developed and field-t
 ested by and for contractors. The highly collaborative virtual program pro
 vides instruction via Zoom and training to prepare construction industry p
 rofessionals with the necessary skills and knowledge to increase the parti
 cipant’s ability to work successfully with others to ensure project succes
 s.\n\n<i>Select Nebraska Building Chapter AGC as your referrer during regi
 stration.</i>
X-WR-RELCALID:531679d3446f8e007b31f8e97b322632
X-WR-TIMEZONE:America/Chicago
BEGIN:VTIMEZONE
TZID:America/Chicago
BEGIN:STANDARD
TZNAME:CST
DTSTART:20261101T020000
TZOFFSETFROM:-0500
TZOFFSETTO:-0600
RDATE:20271107T020000
END:STANDARD
BEGIN:DAYLIGHT
TZNAME:CDT
DTSTART:20260308T020000
TZOFFSETFROM:-0600
TZOFFSETTO:-0500
RDATE:20270314T020000
RDATE:20280312T020000
END:DAYLIGHT
END:VTIMEZONE
BEGIN:VEVENT
UID:8343b8bb-46ac-4610-b122-730caae772d6
DTSTAMP:20260423T140130Z
DESCRIPTION:<i>Classes are held Monday through Friday\, 9:30am-5:30pm</i>\n
 \n<b>AGC Edge Project Manager Development Program (PMDP)</b> is highly int
 eractive and offers construction-specific training developed and field-tes
 ted by and for contractors. The highly collaborative virtual program provi
 des instruction via Zoom and training to prepare construction industry pro
 fessionals with the necessary skills and knowledge to increase the partici
 pant’s ability to work successfully with others to ensure project success.
 \n\n<i>Select Nebraska Building Chapter AGC as your referrer during regist
 ration.</i>
DTSTART;TZID=America/Chicago:20261207T050000
DTEND;TZID=America/Chicago:20261207T050001
LOCATION:https://agc-community.agc.org/s/lt-event?id=a1mRg000007Upgz&_gl=1*
 1jx8g1l*_ga*MTIyOTcxNDU2NC4xNzU4MTQxMTAy*_ga_CJE7FRBLFR*czE3NjQ4Nzk0NDUkbz
 QkZzEkdDE3NjQ4ODgyMzkkajIxJGwwJGgw
SUMMARY:AGC Edge: Project Manager Development Program
END:VEVENT
END:VCALENDAR
