BEGIN:VCALENDAR
VERSION:2.0
PRODID:-//www.agcnebuilders.com//NONSGML kigkonsult.se iCalcreator 2.30.10/
 /
CALSCALE:GREGORIAN
METHOD:PUBLISH
UID:04b6c9ca-7215-45f1-9893-884670edcfa9
X-WR-CALDESC:<i>Classes are held Tuesdays\, and Wednesdays\, 8:00am - 5:00p
 m</i> \n\nLean Construction is driven to minimize costs and maximize value
  on each project completed\, challenging all stakeholders to develop and a
 pply better ways to manage the overall construction process.\n\nThe update
 d <b>AGC Edge Lean Construction Education Program</b> engages students wit
 h numerous activities and group discussions designed to apply Lean Constru
 ction principles and practices.\n\n<i>Select Nebraska Building Chapter AGC
  as your referrer during registration.</i>
X-WR-RELCALID:8b938c031f058a93b57591a020df6067
X-WR-TIMEZONE:America/Chicago
BEGIN:VTIMEZONE
TZID:America/Chicago
BEGIN:STANDARD
TZNAME:CST
DTSTART:20261101T020000
TZOFFSETFROM:-0500
TZOFFSETTO:-0600
RDATE:20271107T020000
END:STANDARD
BEGIN:DAYLIGHT
TZNAME:CDT
DTSTART:20260308T020000
TZOFFSETFROM:-0600
TZOFFSETTO:-0500
RDATE:20270314T020000
RDATE:20280312T020000
END:DAYLIGHT
END:VTIMEZONE
BEGIN:VEVENT
UID:46287015-b4a9-4a10-9fb2-a97a3e422673
DTSTAMP:20260423T123228Z
DESCRIPTION:<i>Classes are held Tuesdays\, and Wednesdays\, 8:00am - 5:00pm
 </i> \n\nLean Construction is driven to minimize costs and maximize value 
 on each project completed\, challenging all stakeholders to develop and ap
 ply better ways to manage the overall construction process.\n\nThe updated
  <b>AGC Edge Lean Construction Education Program</b> engages students with
  numerous activities and group discussions designed to apply Lean Construc
 tion principles and practices.\n\n<i>Select Nebraska Building Chapter AGC 
 as your referrer during registration.</i>
DTSTART;TZID=America/Chicago:20261103T050000
DTEND;TZID=America/Chicago:20261103T050001
LOCATION:https://agc-community.agc.org/s/lt-event?id=a1mRg000007bHdl&_gl=1*
 1frbqb1*_ga*MTIyOTcxNDU2NC4xNzU4MTQxMTAy*_ga_CJE7FRBLFR*czE3NjQ4Nzk0NDUkbz
 QkZzEkdDE3NjQ4ODc4NjQkajIzJGwwJGgw
SUMMARY:AGC Edge: Lean Construction Education Program 2nd edition
END:VEVENT
END:VCALENDAR
