BEGIN:VCALENDAR
VERSION:2.0
PRODID:-//www.agcnebuilders.com//NONSGML kigkonsult.se iCalcreator 2.30.10/
 /
CALSCALE:GREGORIAN
METHOD:PUBLISH
UID:b41a88d5-16cb-460a-86a2-6c5c5300f29c
X-WR-CALDESC:<i>Classes are held Wednesdays and Thursdays\, 2:30pm - 7:00pm
  </i> \n\nThe <b>AGC Advanced Safety Management Training Course</b> (ASMTC
 ) provides construction safety and health professionals with the next–leve
 l knowledge required to successfully manage a company–wide safety program.
 \n\nMoving beyond the basics of Focus Four training\, this 24-hour course 
 will give participants a more holistic view of safety’s role in project an
 d company success\, as well as advanced tactics and best practices for man
 aging all aspects of a corporate safety program.\n\nParticipants will also
  focus on the importance of “selling” safety throughout the organization a
 nd methods to generate buy–in from different audiences.\n\n<i>Select Nebra
 ska Building Chapter AGC as your referrer during registration.</i>
X-WR-RELCALID:bd8c62e2284d678a7722807971bb9afd
X-WR-TIMEZONE:America/Chicago
BEGIN:VTIMEZONE
TZID:America/Chicago
BEGIN:STANDARD
TZNAME:CST
DTSTART:20251102T020000
TZOFFSETFROM:-0500
TZOFFSETTO:-0600
RDATE:20261101T020000
RDATE:20271107T020000
END:STANDARD
BEGIN:DAYLIGHT
TZNAME:CDT
DTSTART:20260308T020000
TZOFFSETFROM:-0600
TZOFFSETTO:-0500
RDATE:20270314T020000
RDATE:20280312T020000
END:DAYLIGHT
END:VTIMEZONE
BEGIN:VEVENT
UID:623276f8-a1fd-4110-8f66-8b47778b7ffc
DTSTAMP:20260423T105734Z
DESCRIPTION:<i>Classes are held Wednesdays and Thursdays\, 2:30pm - 7:00pm 
 </i> \n\nThe <b>AGC Advanced Safety Management Training Course</b> (ASMTC)
  provides construction safety and health professionals with the next–level
  knowledge required to successfully manage a company–wide safety program.
 \n\nMoving beyond the basics of Focus Four training\, this 24-hour course 
 will give participants a more holistic view of safety’s role in project an
 d company success\, as well as advanced tactics and best practices for man
 aging all aspects of a corporate safety program.\n\nParticipants will also
  focus on the importance of “selling” safety throughout the organization a
 nd methods to generate buy–in from different audiences.\n\n<i>Select Nebra
 ska Building Chapter AGC as your referrer during registration.</i>
DTSTART;TZID=America/Chicago:20261007T050000
DTEND;TZID=America/Chicago:20261007T050001
LOCATION:https://agc-community.agc.org/s/lt-event?id=a1mRg000007NCqr&_gl=1*
 9t0apw*_ga*MTIyOTcxNDU2NC4xNzU4MTQxMTAy*_ga_CJE7FRBLFR*czE3NjQ4Nzk0NDUkbzQ
 kZzEkdDE3NjQ4ODczNDMkajE5JGwwJGgw
SUMMARY:AGC Edge: Advanced Safety Management Training Course
END:VEVENT
END:VCALENDAR
