BEGIN:VCALENDAR
VERSION:2.0
PRODID:-//www.agcnebuilders.com//NONSGML kigkonsult.se iCalcreator 2.30.10/
 /
CALSCALE:GREGORIAN
METHOD:PUBLISH
UID:933449ac-42df-407a-bda8-1475dbb78827
X-WR-CALDESC:<i>Classes are held Tuesday and Thursday\, 10:00am - 6:00pm</i
 >\n\n<b>AGC Edge Building Information Modeling (BIM) Education Program</b>
  is designed to educate construction professionals at all experience level
 s in BIM concepts and processes. The highly interactive virtual program pr
 ovides instruction via Zoom and training to prepare construction industry 
 professionals at all levels to take advantage of the benefits of BIM.\n\n<
 i>Select Nebraska Building Chapter AGC as your referrer during registratio
 n.</i>
X-WR-RELCALID:fed2ec965514be4b60aa0e68cfff4499
X-WR-TIMEZONE:America/Chicago
BEGIN:VTIMEZONE
TZID:America/Chicago
BEGIN:STANDARD
TZNAME:CST
DTSTART:20251102T020000
TZOFFSETFROM:-0500
TZOFFSETTO:-0600
RDATE:20261101T020000
RDATE:20271107T020000
END:STANDARD
BEGIN:DAYLIGHT
TZNAME:CDT
DTSTART:20260308T020000
TZOFFSETFROM:-0600
TZOFFSETTO:-0500
RDATE:20270314T020000
RDATE:20280312T020000
END:DAYLIGHT
END:VTIMEZONE
BEGIN:VEVENT
UID:a2a6366a-9fd1-43c6-9ec1-389fa2590e47
DTSTAMP:20260423T110612Z
DESCRIPTION:<i>Classes are held Tuesday and Thursday\, 10:00am - 6:00pm</i>
 \n\n<b>AGC Edge Building Information Modeling (BIM) Education Program</b> 
 is designed to educate construction professionals at all experience levels
  in BIM concepts and processes. The highly interactive virtual program pro
 vides instruction via Zoom and training to prepare construction industry p
 rofessionals at all levels to take advantage of the benefits of BIM.\n\n<i
 >Select Nebraska Building Chapter AGC as your referrer during registration
 .</i>
DTSTART;TZID=America/Chicago:20261006T050000
DTEND;TZID=America/Chicago:20261006T050001
LOCATION:https://agc-community.agc.org/s/lt-event?id=a1mRg000008pQK1&comSit
 eId=a2A3t00000MHkjCEAT
SUMMARY:AGC Edge: Building Information Modeling Education Program
END:VEVENT
END:VCALENDAR
