BEGIN:VCALENDAR
VERSION:2.0
PRODID:-//www.agcnebuilders.com//NONSGML kigkonsult.se iCalcreator 2.30.10/
 /
CALSCALE:GREGORIAN
METHOD:PUBLISH
UID:32db9f42-63d5-4a40-845e-faf540a66dd7
X-WR-CALDESC:
X-WR-RELCALID:0e473df3c6a1f40a8493b6d3b0d3240e
X-WR-TIMEZONE:America/Chicago
BEGIN:VTIMEZONE
TZID:America/Chicago
BEGIN:STANDARD
TZNAME:CST
DTSTART:20251102T020000
TZOFFSETFROM:-0500
TZOFFSETTO:-0600
RDATE:20261101T020000
RDATE:20271107T020000
END:STANDARD
BEGIN:DAYLIGHT
TZNAME:CDT
DTSTART:20260308T020000
TZOFFSETFROM:-0600
TZOFFSETTO:-0500
RDATE:20270314T020000
RDATE:20280312T020000
END:DAYLIGHT
END:VTIMEZONE
BEGIN:VEVENT
UID:03573d92-a26d-4d27-9e8f-5472b6c7a9a9
DTSTAMP:20260423T095249Z
DESCRIPTION:
DTSTART;TZID=America/Chicago:20260929T050000
DTEND;TZID=America/Chicago:20260929T050001
LOCATION:Younes Conference Center North\, Kearney
SUMMARY:Governor's Youth Summit
END:VEVENT
END:VCALENDAR
