BEGIN:VCALENDAR
VERSION:2.0
PRODID:-//www.agcnebuilders.com//NONSGML kigkonsult.se iCalcreator 2.30.10/
 /
CALSCALE:GREGORIAN
METHOD:PUBLISH
UID:e1fb8740-29a2-413a-a028-1b425589c721
X-WR-CALDESC:<i>Classes are held Mondays\, Wednesdays\, and Thursdays\, 11:
 00am - 3:00pm</i> \n\nLean Construction is driven to minimize costs and ma
 ximize value on each project completed\, challenging all stakeholders to d
 evelop and apply better ways to manage the overall construction process.\n
 \nThe updated <b>AGC Edge Lean Construction Education Program</b> engages 
 students with numerous activities and group discussions designed to apply 
 Lean Construction principles and practices.\n\n<i>Select Nebraska Building
  Chapter AGC as your referrer during registration.</i>
X-WR-RELCALID:31d7451539faf8529f7c1fb99ecf06e1
X-WR-TIMEZONE:America/Chicago
BEGIN:VTIMEZONE
TZID:America/Chicago
BEGIN:STANDARD
TZNAME:CST
DTSTART:20251102T020000
TZOFFSETFROM:-0500
TZOFFSETTO:-0600
RDATE:20261101T020000
RDATE:20271107T020000
END:STANDARD
BEGIN:DAYLIGHT
TZNAME:CDT
DTSTART:20260308T020000
TZOFFSETFROM:-0600
TZOFFSETTO:-0500
RDATE:20270314T020000
END:DAYLIGHT
END:VTIMEZONE
BEGIN:VEVENT
UID:3cbf87c4-530f-44b1-9019-762e20063ca1
DTSTAMP:20260423T082331Z
DESCRIPTION:<i>Classes are held Mondays\, Wednesdays\, and Thursdays\, 11:0
 0am - 3:00pm</i> \n\nLean Construction is driven to minimize costs and max
 imize value on each project completed\, challenging all stakeholders to de
 velop and apply better ways to manage the overall construction process.\n
 \nThe updated <b>AGC Edge Lean Construction Education Program</b> engages 
 students with numerous activities and group discussions designed to apply 
 Lean Construction principles and practices.\n\n<i>Select Nebraska Building
  Chapter AGC as your referrer during registration.</i>
DTSTART;TZID=America/Chicago:20260810T050000
DTEND;TZID=America/Chicago:20260810T050001
LOCATION:https://agc-community.agc.org/s/lt-event?id=a1mRg000007N4Zx&_gl=1*
 1wwcgih*_ga*MTIyOTcxNDU2NC4xNzU4MTQxMTAy*_ga_CJE7FRBLFR*czE3NjQ4Nzk0NDUkbz
 QkZzEkdDE3NjQ4ODY5MDUkajMwJGwwJGgw
SUMMARY:AGC Edge: Lean Construction Education Program 2nd edition
END:VEVENT
END:VCALENDAR
