BEGIN:VCALENDAR
VERSION:2.0
PRODID:-//www.agcnebuilders.com//NONSGML kigkonsult.se iCalcreator 2.30.10/
 /
CALSCALE:GREGORIAN
METHOD:PUBLISH
UID:ac69675b-2891-41f6-9889-bfb5d85984de
X-WR-CALDESC:<i>Classes are held Wednesdays\, 9:00am - 4:00pm</i>\n\n<b>AGC
  Edge Building Information Modeling (BIM) Education Program</b> is designe
 d to educate construction professionals at all experience levels in BIM co
 ncepts and processes. The highly interactive virtual program provides inst
 ruction via Zoom and training to prepare construction industry professiona
 ls at all levels to take advantage of the benefits of BIM.\n\n<i>Select Ne
 braska Building Chapter AGC as your referrer during registration.</i>
X-WR-RELCALID:073a9be8bd8cc63c19ea12a050c71e49
X-WR-TIMEZONE:America/Chicago
BEGIN:VTIMEZONE
TZID:America/Chicago
BEGIN:STANDARD
TZNAME:CST
DTSTART:20251102T020000
TZOFFSETFROM:-0500
TZOFFSETTO:-0600
RDATE:20261101T020000
RDATE:20271107T020000
END:STANDARD
BEGIN:DAYLIGHT
TZNAME:CDT
DTSTART:20260308T020000
TZOFFSETFROM:-0600
TZOFFSETTO:-0500
RDATE:20270314T020000
END:DAYLIGHT
END:VTIMEZONE
BEGIN:VEVENT
UID:8016dc05-3157-4601-b40a-846efab7794a
DTSTAMP:20260423T095052Z
DESCRIPTION:<i>Classes are held Wednesdays\, 9:00am - 4:00pm</i>\n\n<b>AGC 
 Edge Building Information Modeling (BIM) Education Program</b> is designed
  to educate construction professionals at all experience levels in BIM con
 cepts and processes. The highly interactive virtual program provides instr
 uction via Zoom and training to prepare construction industry professional
 s at all levels to take advantage of the benefits of BIM.\n\n<i>Select Neb
 raska Building Chapter AGC as your referrer during registration.</i>
DTSTART;TZID=America/Chicago:20260805T050000
DTEND;TZID=America/Chicago:20260805T050001
LOCATION:https://agc-community.agc.org/s/lt-event?id=a1mRg000007N2rV&_gl=1*
 wzl8mt*_ga*MTIyOTcxNDU2NC4xNzU4MTQxMTAy*_ga_CJE7FRBLFR*czE3NjQ4Nzk0NDUkbzQ
 kZzEkdDE3NjQ4ODY3NDUkajMwJGwwJGgw
SUMMARY:AGC Edge: Building Information Modeling Education Program
END:VEVENT
END:VCALENDAR
