BEGIN:VCALENDAR
VERSION:2.0
PRODID:-//www.agcnebuilders.com//NONSGML kigkonsult.se iCalcreator 2.30.10/
 /
CALSCALE:GREGORIAN
METHOD:PUBLISH
UID:3b552374-8104-4056-9ea5-4e64ca39f1e3
X-WR-CALDESC:<i>4-part Workshop is held Mondays and Tuesdays\, 1:00-4:30pm<
 /i>\n\nJoin this 4-part series\, designed to provide you with the foundati
 onal knowledge and ‘hands on’ classroom experience\, to help get you start
 ed in understanding construction design documents.\n\nThis blueprint readi
 ng series is developed to instruct each student in the basic understanding
  of construction blueprints & specifications. Every construction professio
 nal\, whether working in the field or in the office\, must know how to rea
 d plans. Although not overly complicated\, beginning to read blueprints do
 es require a basic understanding\, practice and general knowledge of indus
 try standards used to communicate project design.\n\n<i>Select Nebraska Bu
 ilding Chapter AGC as your referrer during registration.</i>
X-WR-RELCALID:31cebb6357a65c2611d3d299c4c460ab
X-WR-TIMEZONE:America/Chicago
BEGIN:VTIMEZONE
TZID:America/Chicago
BEGIN:STANDARD
TZNAME:CST
DTSTART:20251102T020000
TZOFFSETFROM:-0500
TZOFFSETTO:-0600
RDATE:20261101T020000
RDATE:20271107T020000
END:STANDARD
BEGIN:DAYLIGHT
TZNAME:CDT
DTSTART:20260308T020000
TZOFFSETFROM:-0600
TZOFFSETTO:-0500
RDATE:20270314T020000
END:DAYLIGHT
END:VTIMEZONE
BEGIN:VEVENT
UID:c3f37744-23ae-47bf-bb31-bc3258774c3a
DTSTAMP:20260423T080551Z
DESCRIPTION:<i>4-part Workshop is held Mondays and Tuesdays\, 1:00-4:30pm</
 i>\n\nJoin this 4-part series\, designed to provide you with the foundatio
 nal knowledge and ‘hands on’ classroom experience\, to help get you starte
 d in understanding construction design documents.\n\nThis blueprint readin
 g series is developed to instruct each student in the basic understanding 
 of construction blueprints & specifications. Every construction profession
 al\, whether working in the field or in the office\, must know how to read
  plans. Although not overly complicated\, beginning to read blueprints doe
 s require a basic understanding\, practice and general knowledge of indust
 ry standards used to communicate project design.\n\n<i>Select Nebraska Bui
 lding Chapter AGC as your referrer during registration.</i>
DTSTART;TZID=America/Chicago:20260720T050000
DTEND;TZID=America/Chicago:20260720T050001
LOCATION:https://agc-community.agc.org/s/lt-event?id=a1mRg000007MxTf&_gl=1*
 14fjupr*_ga*MTIyOTcxNDU2NC4xNzU4MTQxMTAy*_ga_CJE7FRBLFR*czE3NjQ4Nzk0NDUkbz
 QkZzEkdDE3NjQ4ODY1NTEkajEyJGwwJGgw
SUMMARY:AGC Edge: Blueprint Reading Basics
END:VEVENT
END:VCALENDAR
