BEGIN:VCALENDAR
VERSION:2.0
PRODID:-//www.agcnebuilders.com//NONSGML kigkonsult.se iCalcreator 2.30.10/
 /
CALSCALE:GREGORIAN
METHOD:PUBLISH
UID:f5b33c1e-9658-4fae-99f7-c7a636f30ee7
X-WR-CALDESC:We invite your organization to participate in this unique hiri
 ng event designed to connect employers with qualified job seekers and prom
 ote meaningful employment opportunities.\n\nThis event provides an excelle
 nt opportunity to promote your current openings\, expand your talent pipel
 ine\, and increase your company’s visibility within the community.\n\nPlea
 se note that space is limited and registration is required.
X-WR-RELCALID:d08d8e963708d82f931df08bd279b913
X-WR-TIMEZONE:America/Chicago
BEGIN:VTIMEZONE
TZID:America/Chicago
BEGIN:STANDARD
TZNAME:CST
DTSTART:20251102T020000
TZOFFSETFROM:-0500
TZOFFSETTO:-0600
RDATE:20261101T020000
RDATE:20271107T020000
END:STANDARD
BEGIN:DAYLIGHT
TZNAME:CDT
DTSTART:20260308T020000
TZOFFSETFROM:-0600
TZOFFSETTO:-0500
RDATE:20270314T020000
END:DAYLIGHT
END:VTIMEZONE
BEGIN:VEVENT
UID:73b52d70-a415-4cca-b2f0-98928948da9b
DTSTAMP:20260423T082453Z
DESCRIPTION:We invite your organization to participate in this unique hirin
 g event designed to connect employers with qualified job seekers and promo
 te meaningful employment opportunities.\n\nThis event provides an excellen
 t opportunity to promote your current openings\, expand your talent pipeli
 ne\, and increase your company’s visibility within the community.\n\nPleas
 e note that space is limited and registration is required.
DTSTART;TZID=America/Chicago:20260527T110000
DTEND;TZID=America/Chicago:20260527T140000
LOCATION:1330 N St\, Lincoln\, NE 68508
SUMMARY:Nebraska Department of Labor & American Job Center - Spring Rooftop
  Career Fair
END:VEVENT
END:VCALENDAR
