BEGIN:VCALENDAR
VERSION:2.0
PRODID:-//www.agcnebuilders.com//NONSGML kigkonsult.se iCalcreator 2.30.10/
 /
CALSCALE:GREGORIAN
METHOD:PUBLISH
UID:552c32f8-50b2-402a-a1dc-925082b7d7c1
X-WR-CALDESC:<b>ALL IN TOGETHER\nRecognize\, Respond\, and Respect</b>\n\nC
 onstruction Safety Week 2026 builds off the headline “All In Together” and
  the progress we’ve made. We’re centering around three pillars: Recognize\
 , Respond\, and Respect to build a unified call to action on high energy\,
  high hazard work to prevent serious injuries and fatalities. \nClick the 
 link below for more information.
X-WR-RELCALID:70da72c3b0976f2edf240a9ba184c474
X-WR-TIMEZONE:America/Chicago
BEGIN:VTIMEZONE
TZID:America/Chicago
BEGIN:STANDARD
TZNAME:CST
DTSTART:20251102T020000
TZOFFSETFROM:-0500
TZOFFSETTO:-0600
RDATE:20261101T020000
END:STANDARD
BEGIN:DAYLIGHT
TZNAME:CDT
DTSTART:20260308T020000
TZOFFSETFROM:-0600
TZOFFSETTO:-0500
RDATE:20270314T020000
END:DAYLIGHT
END:VTIMEZONE
BEGIN:VEVENT
UID:b8907d9b-95f6-4a05-b128-c5dc808800a9
DTSTAMP:20260421T085032Z
DESCRIPTION:<b>ALL IN TOGETHER\nRecognize\, Respond\, and Respect</b>\n\nCo
 nstruction Safety Week 2026 builds off the headline “All In Together” and 
 the progress we’ve made. We’re centering around three pillars: Recognize\,
  Respond\, and Respect to build a unified call to action on high energy\, 
 high hazard work to prevent serious injuries and fatalities. \nClick the l
 ink below for more information.
DTSTART;TZID=America/Chicago:20260504T050000
DTEND;TZID=America/Chicago:20260508T050001
LOCATION:
SUMMARY:Construction Safety Week
END:VEVENT
END:VCALENDAR
