BEGIN:VCALENDAR
VERSION:2.0
PRODID:-//www.agcnebuilders.com//NONSGML kigkonsult.se iCalcreator 2.30.10/
 /
CALSCALE:GREGORIAN
METHOD:PUBLISH
UID:2aab97bd-df53-4482-be5c-f6522b5e8066
X-WR-CALDESC:Help celebrate Women in Construction week! This event will bri
 ng together women from all stages of their careers in construction. Whethe
 r you are just starting out or are well seasoned\, join us for this uplift
 ing\, informative\, and fun networking luncheon!\n\nWomen In Construction 
 Luncheon hosted by <a href='https://www.linkedin.com/company/nawic-greater
 -omaha-chapter/' target='_blank' rel='noreferrer noopener'>NAWIC - Greater
  Omaha Chapter # 116</a> and <a href='https://www.linkedin.com/company/met
 ropolitan-community-college/?lipi=urn%3Ali%3Apage%3Ad_flagship3_feed%3Bx0g
 ojlJgQsSykVxxYNXZdw%3D%3D' target='_blank' rel='noreferrer noopener'> Metr
 opolitan Community College</a>.
X-WR-RELCALID:9da64d05fe488fd83d864c1c2fb6e19a
X-WR-TIMEZONE:America/Chicago
BEGIN:VTIMEZONE
TZID:America/Chicago
BEGIN:STANDARD
TZNAME:CST
DTSTART:20251102T020000
TZOFFSETFROM:-0500
TZOFFSETTO:-0600
RDATE:20261101T020000
END:STANDARD
BEGIN:DAYLIGHT
TZNAME:CDT
DTSTART:20250309T020000
TZOFFSETFROM:-0600
TZOFFSETTO:-0500
RDATE:20260308T020000
RDATE:20270314T020000
END:DAYLIGHT
END:VTIMEZONE
BEGIN:VEVENT
UID:c7163b43-0dab-4d28-8e33-fc339f543abb
DTSTAMP:20260421T095643Z
DESCRIPTION:Help celebrate Women in Construction week! This event will brin
 g together women from all stages of their careers in construction. Whether
  you are just starting out or are well seasoned\, join us for this uplifti
 ng\, informative\, and fun networking luncheon!\n\nWomen In Construction L
 uncheon hosted by <a href='https://www.linkedin.com/company/nawic-greater-
 omaha-chapter/' target='_blank' rel='noreferrer noopener'>NAWIC - Greater 
 Omaha Chapter # 116</a> and <a href='https://www.linkedin.com/company/metr
 opolitan-community-college/?lipi=urn%3Ali%3Apage%3Ad_flagship3_feed%3Bx0go
 jlJgQsSykVxxYNXZdw%3D%3D' target='_blank' rel='noreferrer noopener'> Metro
 politan Community College</a>.
DTSTART;TZID=America/Chicago:20260304T110000
DTEND;TZID=America/Chicago:20260304T130000
LOCATION:MCC Fort Omaha Campus\, Swanson Conference Center\, Omaha
SUMMARY:Women in Construction Luncheon
END:VEVENT
END:VCALENDAR
