BEGIN:VCALENDAR
VERSION:2.0
PRODID:-//www.agcnebuilders.com//NONSGML kigkonsult.se iCalcreator 2.30.10/
 /
CALSCALE:GREGORIAN
METHOD:PUBLISH
UID:bee53ecc-c5eb-4e87-b364-699f34a52343
X-WR-CALDESC:Registration Due for STP Contract Documents.
X-WR-RELCALID:6811e8bd5c026438a1a865661b6c194d
X-WR-TIMEZONE:America/Chicago
BEGIN:VTIMEZONE
TZID:America/Chicago
BEGIN:STANDARD
TZNAME:CST
DTSTART:20251102T020000
TZOFFSETFROM:-0500
TZOFFSETTO:-0600
RDATE:20261101T020000
END:STANDARD
BEGIN:DAYLIGHT
TZNAME:CDT
DTSTART:20250309T020000
TZOFFSETFROM:-0600
TZOFFSETTO:-0500
RDATE:20260308T020000
RDATE:20270314T020000
END:DAYLIGHT
END:VTIMEZONE
BEGIN:VEVENT
UID:3c709b40-61bc-4dec-a9a8-d2fbecccc053
DTSTAMP:20260421T082403Z
DESCRIPTION:Registration Due for STP Contract Documents.
DTSTART;TZID=America/Chicago:20260213T050000
DTEND;TZID=America/Chicago:20260213T050001
LOCATION:
SUMMARY:Registration due for March 2026 STP Class
END:VEVENT
END:VCALENDAR
