BEGIN:VCALENDAR
VERSION:2.0
PRODID:-//www.agcnebuilders.com//NONSGML kigkonsult.se iCalcreator 2.30.10/
 /
CALSCALE:GREGORIAN
METHOD:PUBLISH
UID:3a09b26e-5a18-495b-9edd-e2cd96c0aca5
X-WR-CALDESC:SUBCONTRACTORS\, VENDORS & EMERGING WORKFORCE PARTNERS--\nJoin
  us for dinner and a dynamic\, four-hour networking and information sessio
 n crafted to connect local subcontractors\, vendors\, and emerging workfor
 ce partners with high-value opportunities in the region’s thriving hypersc
 ale data center market!\n\nYou’ll hear directly from six leading contracto
 rs presenting upcoming scopes of work\, with a primary focus on major hype
 rscale data center developments\, alongside insights into other exciting p
 rojects happening in the area.
X-WR-RELCALID:99836d16483487553e45bdb434a8de10
X-WR-TIMEZONE:America/Chicago
BEGIN:VTIMEZONE
TZID:America/Chicago
BEGIN:STANDARD
TZNAME:CST
DTSTART:20251102T020000
TZOFFSETFROM:-0500
TZOFFSETTO:-0600
RDATE:20261101T020000
END:STANDARD
BEGIN:DAYLIGHT
TZNAME:CDT
DTSTART:20250309T020000
TZOFFSETFROM:-0600
TZOFFSETTO:-0500
RDATE:20260308T020000
RDATE:20270314T020000
END:DAYLIGHT
END:VTIMEZONE
BEGIN:VEVENT
UID:ad32bc77-6bef-4e57-b80e-187b8d7e5181
DTSTAMP:20260421T095035Z
DESCRIPTION:SUBCONTRACTORS\, VENDORS & EMERGING WORKFORCE PARTNERS--\nJoin 
 us for dinner and a dynamic\, four-hour networking and information session
  crafted to connect local subcontractors\, vendors\, and emerging workforc
 e partners with high-value opportunities in the region’s thriving hypersca
 le data center market!\n\nYou’ll hear directly from six leading contractor
 s presenting upcoming scopes of work\, with a primary focus on major hyper
 scale data center developments\, alongside insights into other exciting pr
 ojects happening in the area.
DTSTART;TZID=America/Chicago:20260212T150000
DTEND;TZID=America/Chicago:20260212T190000
LOCATION:Salvation Army Kroc Center Omaha\, 2825 Y Street\, Omaha
SUMMARY:Small Business Opportunity--Hyperscale data centers
END:VEVENT
END:VCALENDAR
