BEGIN:VCALENDAR
VERSION:2.0
PRODID:-//www.agcnebuilders.com//NONSGML kigkonsult.se iCalcreator 2.30.10/
 /
CALSCALE:GREGORIAN
METHOD:PUBLISH
UID:fa1d5511-4d0b-4ff9-a110-334ec59ef634
X-WR-CALDESC:<i>Classes are held Thursdays and Fridays\, 8:00am - 3:00pm </
 i> \n\nThe <b>AGC Advanced Safety Management Training Course</b> (ASMTC) p
 rovides construction safety and health professionals with the next–level k
 nowledge required to successfully manage a company–wide safety program.\n
 \nMoving beyond the basics of Focus Four training\, this 24-hour course wi
 ll give participants a more holistic view of safety’s role in project and 
 company success\, as well as advanced tactics and best practices for manag
 ing all aspects of a corporate safety program.\n\nParticipants will also f
 ocus on the importance of “selling” safety throughout the organization and
  methods to generate buy–in from different audiences.
X-WR-RELCALID:03a0599d9ee7faeaf4b38565b28041d0
X-WR-TIMEZONE:America/Chicago
BEGIN:VTIMEZONE
TZID:America/Chicago
BEGIN:STANDARD
TZNAME:CST
DTSTART:20251102T020000
TZOFFSETFROM:-0500
TZOFFSETTO:-0600
RDATE:20261101T020000
END:STANDARD
BEGIN:DAYLIGHT
TZNAME:CDT
DTSTART:20250309T020000
TZOFFSETFROM:-0600
TZOFFSETTO:-0500
RDATE:20260308T020000
RDATE:20270314T020000
END:DAYLIGHT
END:VTIMEZONE
BEGIN:VEVENT
UID:d94de6b5-3e7d-4147-9deb-987a5c055369
DTSTAMP:20260423T094646Z
DESCRIPTION:<i>Classes are held Thursdays and Fridays\, 8:00am - 3:00pm </i
 > \n\nThe <b>AGC Advanced Safety Management Training Course</b> (ASMTC) pr
 ovides construction safety and health professionals with the next–level kn
 owledge required to successfully manage a company–wide safety program.\n\n
 Moving beyond the basics of Focus Four training\, this 24-hour course will
  give participants a more holistic view of safety’s role in project and co
 mpany success\, as well as advanced tactics and best practices for managin
 g all aspects of a corporate safety program.\n\nParticipants will also foc
 us on the importance of “selling” safety throughout the organization and m
 ethods to generate buy–in from different audiences.
DTSTART;TZID=America/Chicago:20260212T050000
DTEND;TZID=America/Chicago:20260212T050001
LOCATION:https://agc-community.agc.org/s/lt-event?id=a1mRg000007LxCL&_gl=1*
 3spwi5*_ga*MTIyOTcxNDU2NC4xNzU4MTQxMTAy*_ga_CJE7FRBLFR*czE3NjQ4Nzk0NDUkbzQ
 kZzEkdDE3NjQ4ODQ1OTEkajM4JGwwJGgw
SUMMARY:AGC Edge: Advanced Safety Management Training Course
END:VEVENT
END:VCALENDAR
