BEGIN:VCALENDAR
VERSION:2.0
PRODID:-//www.agcnebuilders.com//NONSGML kigkonsult.se iCalcreator 2.30.10/
 /
CALSCALE:GREGORIAN
METHOD:PUBLISH
UID:d26fbb68-36af-4bdb-9875-f7cce2612351
X-WR-CALDESC:Speaker: Scott Dobbe\, Executive Director\, Omaha by Design\n
 \nScott will give an overview of Omaha by Design and highlight key ongoing
  and upcoming projects with Omaha by Design.\n
X-WR-RELCALID:773c539e2161d648680fc5f5dba69f48
X-WR-TIMEZONE:America/Chicago
BEGIN:VTIMEZONE
TZID:America/Chicago
BEGIN:STANDARD
TZNAME:CST
DTSTART:20251102T020000
TZOFFSETFROM:-0500
TZOFFSETTO:-0600
RDATE:20261101T020000
END:STANDARD
BEGIN:DAYLIGHT
TZNAME:CDT
DTSTART:20250309T020000
TZOFFSETFROM:-0600
TZOFFSETTO:-0500
RDATE:20260308T020000
RDATE:20270314T020000
END:DAYLIGHT
END:VTIMEZONE
BEGIN:VEVENT
UID:a70719b5-e1a4-4d3c-b7d0-48f54ae13aa1
DTSTAMP:20260421T084820Z
DESCRIPTION:Speaker: Scott Dobbe\, Executive Director\, Omaha by Design\n\n
 Scott will give an overview of Omaha by Design and highlight key ongoing a
 nd upcoming projects with Omaha by Design.\n
DTSTART;TZID=America/Chicago:20260211T073000
DTEND;TZID=America/Chicago:20260211T090000
LOCATION:Scott Conference Center | 6450 Pine St\, Omaha
SUMMARY:DBIA Breakfast Meeting: Omaha by Design
END:VEVENT
END:VCALENDAR
