BEGIN:VCALENDAR
VERSION:2.0
PRODID:-//www.agcnebuilders.com//NONSGML kigkonsult.se iCalcreator 2.30.10/
 /
CALSCALE:GREGORIAN
METHOD:PUBLISH
UID:bd200da0-5013-43e9-a19a-cae29c03ed7e
X-WR-CALDESC:Submit your 2025 NASA form to Vicki by February 9\, 2026. \n\n
 The NASA program has been an ongoing effort since 1991 to offer AGC member
 s an opportunity to evaluate their safety record. NASA provides a great op
 portunity for contactor members with excellent safety records to compete f
 or nationally recognized awards.
X-WR-RELCALID:c742ebc2afe770565235b49beccf7494
X-WR-TIMEZONE:America/Chicago
BEGIN:VTIMEZONE
TZID:America/Chicago
BEGIN:STANDARD
TZNAME:CST
DTSTART:20251102T020000
TZOFFSETFROM:-0500
TZOFFSETTO:-0600
RDATE:20261101T020000
END:STANDARD
BEGIN:DAYLIGHT
TZNAME:CDT
DTSTART:20250309T020000
TZOFFSETFROM:-0600
TZOFFSETTO:-0500
RDATE:20260308T020000
RDATE:20270314T020000
END:DAYLIGHT
END:VTIMEZONE
BEGIN:VEVENT
UID:c2035984-6e48-4a2e-9225-414b8518c7aa
DTSTAMP:20260421T081906Z
DESCRIPTION:Submit your 2025 NASA form to Vicki by February 9\, 2026. \n\nT
 he NASA program has been an ongoing effort since 1991 to offer AGC members
  an opportunity to evaluate their safety record. NASA provides a great opp
 ortunity for contactor members with excellent safety records to compete fo
 r nationally recognized awards.
DTSTART;TZID=America/Chicago:20260209T050000
DTEND;TZID=America/Chicago:20260209T050001
LOCATION:
SUMMARY:2025 NASA form due
END:VEVENT
END:VCALENDAR
