BEGIN:VCALENDAR
VERSION:2.0
PRODID:-//www.agcnebuilders.com//NONSGML kigkonsult.se iCalcreator 2.30.10/
 /
CALSCALE:GREGORIAN
METHOD:PUBLISH
UID:cb405326-7f43-4c3d-ab5d-d0dc065564b9
X-WR-CALDESC:<i>Classes are held Tuesday and Thursday\, 11:00am - 3:00pm</i
 >\n\n<b>AGC Edge Building Information Modeling (BIM) Education Program</b>
  is designed to educate construction professionals at all experience level
 s in BIM concepts and processes. The highly interactive virtual program pr
 ovides instruction via Zoom and training to prepare construction industry 
 professionals at all levels to take advantage of the benefits of BIM.
X-WR-RELCALID:2aba7fc1d6f6d3ccc9c62fec1f5fca14
X-WR-TIMEZONE:America/Chicago
BEGIN:VTIMEZONE
TZID:America/Chicago
BEGIN:STANDARD
TZNAME:CST
DTSTART:20251102T020000
TZOFFSETFROM:-0500
TZOFFSETTO:-0600
RDATE:20261101T020000
END:STANDARD
BEGIN:DAYLIGHT
TZNAME:CDT
DTSTART:20250309T020000
TZOFFSETFROM:-0600
TZOFFSETTO:-0500
RDATE:20260308T020000
RDATE:20270314T020000
END:DAYLIGHT
END:VTIMEZONE
BEGIN:VEVENT
UID:ab054936-0814-401f-9961-7859d45b6df5
DTSTAMP:20260421T095354Z
DESCRIPTION:<i>Classes are held Tuesday and Thursday\, 11:00am - 3:00pm</i>
 \n\n<b>AGC Edge Building Information Modeling (BIM) Education Program</b> 
 is designed to educate construction professionals at all experience levels
  in BIM concepts and processes. The highly interactive virtual program pro
 vides instruction via Zoom and training to prepare construction industry p
 rofessionals at all levels to take advantage of the benefits of BIM.
DTSTART;TZID=America/Chicago:20260203T050000
DTEND;TZID=America/Chicago:20260203T050001
LOCATION:https://agc-community.agc.org/s/lt-event?id=a1mRg000007Lo7R&_gl=1*
 rqmpyt*_ga*MTIyOTcxNDU2NC4xNzU4MTQxMTAy*_ga_CJE7FRBLFR*czE3NjQ4Nzk0NDUkbzQ
 kZzEkdDE3NjQ4ODI4NzIkajU0JGwwJGgw
SUMMARY:AGC Edge: Building Information Modeling Education Program
END:VEVENT
END:VCALENDAR
