BEGIN:VCALENDAR
VERSION:2.0
PRODID:-//www.agcnebuilders.com//NONSGML kigkonsult.se iCalcreator 2.30.10/
 /
CALSCALE:GREGORIAN
METHOD:PUBLISH
UID:b123ee4c-b88e-479c-bff8-525324a60153
X-WR-CALDESC:<b>Panel Discussion</b>\n<i>Who should attend:</i> Human Resou
 rces\, Recruiters\n\n<a href='https://www.agcnebuilders.com/file_download/
 inline/95cc71fc-d81d-4b08-9bb8-8de7649a5faf' target='_blank' rel='noreferr
 er noopener'>Click here</a> for pdf flyer.\n<a href='https://www.agcnebuil
 ders.com/events/2022-events/member-workshop-6-9-2022.html'>Click here</a> 
 for online registration.\n
X-WR-RELCALID:631333bbc20691e9f8194d75c15b25e0
X-WR-TIMEZONE:America/Chicago
BEGIN:VTIMEZONE
TZID:America/Chicago
BEGIN:STANDARD
TZNAME:CST
DTSTART:20211107T020000
TZOFFSETFROM:-0500
TZOFFSETTO:-0600
RDATE:20221106T020000
RDATE:20231105T020000
END:STANDARD
BEGIN:DAYLIGHT
TZNAME:CDT
DTSTART:20220313T020000
TZOFFSETFROM:-0600
TZOFFSETTO:-0500
RDATE:20230312T020000
END:DAYLIGHT
END:VTIMEZONE
BEGIN:VEVENT
UID:f76a7c19-28bd-43d4-b56e-3b9089a44959
DTSTAMP:20260424T101147Z
DESCRIPTION:<b>Panel Discussion</b>\n<i>Who should attend:</i> Human Resour
 ces\, Recruiters\n\n<a href='https://www.agcnebuilders.com/file_download/i
 nline/95cc71fc-d81d-4b08-9bb8-8de7649a5faf' target='_blank' rel='noreferre
 r noopener'>Click here</a> for pdf flyer.\n<a href='https://www.agcnebuild
 ers.com/events/2022-events/member-workshop-6-9-2022.html'>Click here</a> f
 or online registration.\n
DTSTART;TZID=America/Chicago:20220609T150000
DTEND;TZID=America/Chicago:20220609T170000
LOCATION:Round the Bend Steakhouse\, Conference Center\, Ashland
SUMMARY:MEMBER WORKSHOP: Connecting with the Hidden Workforce of Re-Entry
END:VEVENT
END:VCALENDAR
