BEGIN:VCALENDAR
VERSION:2.0
PRODID:-//www.agcnebuilders.com//NONSGML kigkonsult.se iCalcreator 2.30.10/
 /
CALSCALE:GREGORIAN
METHOD:PUBLISH
UID:e8350d2e-6ae5-4109-bc85-a5a89344d2e3
X-WR-CALDESC:Semi-informal opportunity to meet & visit with faculty from SC
 C & UNL. The main goal of the event is to allow everyone an opportunity to
  chat & enjoy a beverage while the educators share ways you might help the
 m in the classroom & new ways to connect with students.\n\n<a href='https:
 //www.agcnebuilders.com/file_download/inline/e8dba5d8-9c23-4a2f-9224-6b46b
 afb8eee' target='_blank' rel='noreferrer noopener'>Click here for PDF flye
 r.</a>\n<a href='https://www.agcnebuilders.com/events/2020-events/lmm-nove
 mber-13-2019.html' target='_blank' rel='noreferrer noopener'>Click here fo
 r online registration.</a>
X-WR-RELCALID:c9a00fe5a820e0c88ed8b31b1b3fd56d
X-WR-TIMEZONE:America/Chicago
BEGIN:VTIMEZONE
TZID:America/Chicago
BEGIN:STANDARD
TZNAME:CST
DTSTART:20191103T020000
TZOFFSETFROM:-0500
TZOFFSETTO:-0600
RDATE:20201101T020000
END:STANDARD
BEGIN:DAYLIGHT
TZNAME:CDT
DTSTART:20190310T020000
TZOFFSETFROM:-0600
TZOFFSETTO:-0500
RDATE:20200308T020000
RDATE:20210314T020000
END:DAYLIGHT
END:VTIMEZONE
BEGIN:VEVENT
UID:a0274cd8-5f07-4c68-82f3-733da059b1a3
DTSTAMP:20260421T095521Z
DESCRIPTION:Semi-informal opportunity to meet & visit with faculty from SCC
  & UNL. The main goal of the event is to allow everyone an opportunity to 
 chat & enjoy a beverage while the educators share ways you might help them
  in the classroom & new ways to connect with students.\n\n<a href='https:/
 /www.agcnebuilders.com/file_download/inline/e8dba5d8-9c23-4a2f-9224-6b46ba
 fb8eee' target='_blank' rel='noreferrer noopener'>Click here for PDF flyer
 .</a>\n<a href='https://www.agcnebuilders.com/events/2020-events/lmm-novem
 ber-13-2019.html' target='_blank' rel='noreferrer noopener'>Click here for
  online registration.</a>
DTSTART;TZID=America/Chicago:20191113T160000
DTEND;TZID=America/Chicago:20191113T173000
LOCATION:Nebraska Club\, Lincoln
SUMMARY:AGC Member & Educator Networking Event
END:VEVENT
END:VCALENDAR
