BEGIN:VCALENDAR
VERSION:2.0
PRODID:-//www.agcnebuilders.com//NONSGML kigkonsult.se iCalcreator 2.30.10/
 /
CALSCALE:GREGORIAN
METHOD:PUBLISH
UID:78316253-e7e2-452e-996a-d8499200fcd4
X-WR-CALDESC:Quality People nominations and Build Nebraska Award submission
 s are due by <b>5:00pm today!</b> Click on <b>Awards Program</b> at the le
 ft for all of the information.
X-WR-RELCALID:11b3d1d7feaae896318e25167734fd66
X-WR-TIMEZONE:America/Chicago
BEGIN:VTIMEZONE
TZID:America/Chicago
BEGIN:STANDARD
TZNAME:CST
DTSTART:20181104T020000
TZOFFSETFROM:-0500
TZOFFSETTO:-0600
RDATE:20191103T020000
RDATE:20201101T020000
END:STANDARD
BEGIN:DAYLIGHT
TZNAME:CDT
DTSTART:20190310T020000
TZOFFSETFROM:-0600
TZOFFSETTO:-0500
RDATE:20200308T020000
RDATE:20210314T020000
END:DAYLIGHT
END:VTIMEZONE
BEGIN:VEVENT
UID:b4d390c1-c67d-47c8-94b7-d6c3f9df61fe
DTSTAMP:20260420T040205Z
DESCRIPTION:Quality People nominations and Build Nebraska Award submissions
  are due by <b>5:00pm today!</b> Click on <b>Awards Program</b> at the lef
 t for all of the information.
DTSTART;TZID=America/Chicago:20191014T000000
DTEND;TZID=America/Chicago:20191014T235900
LOCATION:
SUMMARY:Award Submissions Due
END:VEVENT
END:VCALENDAR
