BEGIN:VCALENDAR
VERSION:2.0
PRODID:-//www.agcnebuilders.com//NONSGML kigkonsult.se iCalcreator 2.30.10/
 /
CALSCALE:GREGORIAN
METHOD:PUBLISH
UID:3c71aa6b-c6ec-49a9-bf7b-05e0adaa6303
X-WR-CALDESC:
X-WR-RELCALID:719019e46f47cbd7bb4ad5ee4f31706d
X-WR-TIMEZONE:America/Chicago
BEGIN:VTIMEZONE
TZID:America/Chicago
BEGIN:STANDARD
TZNAME:CST
DTSTART:20181104T020000
TZOFFSETFROM:-0500
TZOFFSETTO:-0600
RDATE:20191103T020000
RDATE:20201101T020000
END:STANDARD
BEGIN:DAYLIGHT
TZNAME:CDT
DTSTART:20190310T020000
TZOFFSETFROM:-0600
TZOFFSETTO:-0500
RDATE:20200308T020000
END:DAYLIGHT
END:VTIMEZONE
BEGIN:VEVENT
UID:4a09ba3d-8c5c-4e14-ab47-58dd30834ff1
DTSTAMP:20260420T015429Z
DESCRIPTION:
DTSTART;TZID=America/Chicago:20190912T000000
DTEND;TZID=America/Chicago:20190912T235900
LOCATION:
SUMMARY:Workforce Development Team Meeting
END:VEVENT
END:VCALENDAR
