BEGIN:VCALENDAR
VERSION:2.0
PRODID:-//www.agcnebuilders.com//NONSGML kigkonsult.se iCalcreator 2.30.10/
 /
CALSCALE:GREGORIAN
METHOD:PUBLISH
UID:75df97f5-950c-4c56-a046-3fade6006024
X-WR-CALDESC:Program: <i>Fostering Construction Innovation: Wisdom of the H
 ive</i>\nSpeaker: Jay Snyder\, Technology & Innovation Practice Leader\, F
 MI\n\nAGC Members registration fee paid via Workforce Development Funds\, 
 DBIA Member rates apply\, all other $30 fee. \n\n<a href='https://www.agcn
 ebuilders.com/file_download/inline/9922d6e4-9b24-47f2-bea5-87e5c787f6e4' t
 arget='_blank' rel='noreferrer noopener'>Click here</a> for flyer and regi
 stration form\n<a href='https://www.agcnebuilders.com/events/2020-events/v
 irtual-program-august-26-2020.html'>Click here</a> for online registration
 .\n
X-WR-RELCALID:1f167f1e2850faaff745c1dffec54870
X-WR-TIMEZONE:America/Chicago
BEGIN:VTIMEZONE
TZID:America/Chicago
BEGIN:STANDARD
TZNAME:CST
DTSTART:20191103T020000
TZOFFSETFROM:-0500
TZOFFSETTO:-0600
RDATE:20201101T020000
RDATE:20211107T020000
END:STANDARD
BEGIN:DAYLIGHT
TZNAME:CDT
DTSTART:20200308T020000
TZOFFSETFROM:-0600
TZOFFSETTO:-0500
RDATE:20210314T020000
END:DAYLIGHT
END:VTIMEZONE
BEGIN:VEVENT
UID:782a52e1-f4e5-4e65-aa60-6c8396b7da26
DTSTAMP:20260421T032234Z
DESCRIPTION:Program: <i>Fostering Construction Innovation: Wisdom of the Hi
 ve</i>\nSpeaker: Jay Snyder\, Technology & Innovation Practice Leader\, FM
 I\n\nAGC Members registration fee paid via Workforce Development Funds\, D
 BIA Member rates apply\, all other $30 fee. \n\n<a href='https://www.agcne
 builders.com/file_download/inline/9922d6e4-9b24-47f2-bea5-87e5c787f6e4' ta
 rget='_blank' rel='noreferrer noopener'>Click here</a> for flyer and regis
 tration form\n<a href='https://www.agcnebuilders.com/events/2020-events/vi
 rtual-program-august-26-2020.html'>Click here</a> for online registration.
 \n
DTSTART;TZID=America/Chicago:20200826T080000
DTEND;TZID=America/Chicago:20200826T090000
LOCATION:
SUMMARY:AGC/DBIA/MCA Virtual Meeting
END:VEVENT
END:VCALENDAR
